BEGIN:VCALENDAR
VERSION:2.0
PRODID:-//Austin Strong Foundation - ECPv6.1.4//NONSGML v1.0//EN
CALSCALE:GREGORIAN
METHOD:PUBLISH
X-WR-CALNAME:Austin Strong Foundation
X-ORIGINAL-URL:https://austinstrong.org
X-WR-CALDESC:Events for Austin Strong Foundation
REFRESH-INTERVAL;VALUE=DURATION:PT1H
X-Robots-Tag:noindex
X-PUBLISHED-TTL:PT1H
BEGIN:VTIMEZONE
TZID:America/Chicago
BEGIN:DAYLIGHT
TZOFFSETFROM:-0600
TZOFFSETTO:-0500
TZNAME:CDT
DTSTART:20230312T080000
END:DAYLIGHT
BEGIN:STANDARD
TZOFFSETFROM:-0500
TZOFFSETTO:-0600
TZNAME:CST
DTSTART:20231105T070000
END:STANDARD
END:VTIMEZONE
BEGIN:VEVENT
DTSTART;VALUE=DATE:20231211
DTEND;VALUE=DATE:20231212
DTSTAMP:20260425T115124
CREATED:20231208T215329Z
LAST-MODIFIED:20231208T215419Z
UID:2719-1702252800-1702339199@austinstrong.org
SUMMARY:Holiday Toy Drive
DESCRIPTION:Holiday Toy Drive for the University of Iowa Stead Family Children’s Hospital \nDrop Off Locations: \n\nSally’s on Broadway\, Spirngville\nMonticello Police Department\nGoettsch Funeral Home\, Monticello\nGoettsch Funeral Home\, Anamosa\nMonticello’s Holiday on First Event (Dec. 9)\n\nDeadline: Monday Dec. 11 \nFor more details visit us on Facebook! \n@austinstrongfoundation
URL:https://austinstrong.org/event/holiday-toy-drive/
LOCATION:IA
ATTACH;FMTTYPE=image/png:https://austinstrong.org/wp-content/uploads/2023/12/image.png
END:VEVENT
END:VCALENDAR